BEGIN:VCALENDAR
VERSION:2.0
PRODID:-//Squarespace Inc/Squarespace 6//v6//EN
BEGIN:VEVENT
UID:612e00efa4d9363870f03968@squarespace.com
DTSTAMP:20210831T101548Z
DTSTART:20220331T190000Z
DTEND:20220331T200000Z
SUMMARY:Sola - Psappha Ensemble (Manchester)
END:VEVENT
END:VCALENDAR
