BEGIN:VCALENDAR
VERSION:2.0
PRODID:-//Squarespace Inc/Squarespace 6//v6//EN
BEGIN:VEVENT
UID:606448313e481f07b352fbc9@squarespace.com
DTSTAMP:20210331T100416Z
DTSTART:20220326T140000Z
DTEND:20220326T150000Z
SUMMARY:METACOSMOS - Tokyo Metropolitan Symphony (A. Gilbert)
END:VEVENT
END:VCALENDAR
