BEGIN:VCALENDAR
VERSION:2.0
PRODID:-//Squarespace Inc/Squarespace 6//v6//EN
BEGIN:VEVENT
UID:60d21d0fa2a42a359fe3a9b4@squarespace.com
DTSTAMP:20210622T172700Z
DTSTART:20220312T200000Z
DTEND:20220312T210000Z
SUMMARY:METACOSMOS - LA Philharmonic (Canellakis)
END:VEVENT
END:VCALENDAR
