BEGIN:VCALENDAR
VERSION:2.0
PRODID:-//Squarespace Inc/Squarespace 6//v6//EN
BEGIN:VEVENT
UID:60d4274f9b197508e57b954c@squarespace.com
DTSTAMP:20210624T102318Z
DTSTART:20220311T180000Z
DTEND:20220311T190000Z
SUMMARY:CATAMORPHOSIS - Iceland Symphony Orchestra (Daníel Bjarnason)
END:VEVENT
END:VCALENDAR
