BEGIN:VCALENDAR
VERSION:2.0
PRODID:-//Squarespace Inc/Squarespace 6//v6//EN
BEGIN:VEVENT
UID:605bb0d8cb4d9e05f524c214@squarespace.com
DTSTAMP:20210324T213734Z
DTSTART:20220202T190000Z
DTEND:20220202T200000Z
SUMMARY:METACOSMOS - Tonkünstler Orchestra (Vienna)
END:VEVENT
END:VCALENDAR
