BEGIN:VCALENDAR
VERSION:2.0
PRODID:-//Squarespace Inc/Squarespace 6//v6//EN
BEGIN:VEVENT
UID:60ede8fc36d5170423618a96@squarespace.com
DTSTAMP:20210713T193054Z
DTSTART:20220216T200000Z
DTEND:20220216T210000Z
SUMMARY:Portrait concert - Kammerakademie Potsdam
END:VEVENT
END:VCALENDAR
