BEGIN:VCALENDAR
VERSION:2.0
PRODID:-//Squarespace Inc/Squarespace 6//v6//EN
BEGIN:VEVENT
UID:60ede9fac450ee4730805c23@squarespace.com
DTSTAMP:20210713T193217Z
DTSTART:20220217T100000Z
DTEND:20220217T110000Z
SUMMARY:Portrait concert - Kammerakademie Potsdam
END:VEVENT
END:VCALENDAR
