BEGIN:VCALENDAR
VERSION:2.0
PRODID:-//Squarespace Inc/Squarespace 6//v6//EN
BEGIN:VEVENT
UID:605bb086611d8b2613a75398@squarespace.com
DTSTAMP:20210324T213616Z
DTSTART:20220131T190000Z
DTEND:20220131T200000Z
SUMMARY:METACOSMOS - Tonkünstler Orchestra (Vienna)
END:VEVENT
END:VCALENDAR
