BEGIN:VCALENDAR
VERSION:2.0
PRODID:-//Squarespace Inc/Squarespace 6//v6//EN
BEGIN:VEVENT
UID:605bafd214ecb3435fb8e635@squarespace.com
DTSTAMP:20210324T213431Z
DTSTART:20220130T190000Z
DTEND:20220130T200000Z
SUMMARY:METACOSMOS - Tonkünstler Orchestra (St. Pölten)
END:VEVENT
END:VCALENDAR
