BEGIN:VCALENDAR
VERSION:2.0
PRODID:-//Squarespace Inc/Squarespace 6//v6//EN
BEGIN:VEVENT
UID:60f548bbe3dec17ca07ad131@squarespace.com
DTSTAMP:20210719T120304Z
DTSTART:20220130T190000Z
DTEND:20220130T200000Z
SUMMARY:Heyr þú oss himnum á - Los Angeles Master Chorale
END:VEVENT
END:VCALENDAR
