BEGIN:VCALENDAR
VERSION:2.0
PRODID:-//Squarespace Inc/Squarespace 6//v6//EN
BEGIN:VEVENT
UID:605baf4a35381e3353c23dfe@squarespace.com
DTSTAMP:20210324T213500Z
DTSTART:20220129T193000Z
DTEND:20220129T203000Z
SUMMARY:METACOSMOS - Tonkünstler Orchestra (Grafenegg)
END:VEVENT
END:VCALENDAR
