BEGIN:VCALENDAR
VERSION:2.0
PRODID:-//Squarespace Inc/Squarespace 6//v6//EN
BEGIN:VEVENT
UID:5fb4e095afe4b35f08422d05@squarespace.com
DTSTAMP:20201118T090307Z
DTSTART:20210826T190000Z
DTEND:20210826T200000Z
SUMMARY:Illumine - Australian Chamber Orchestra (Wollongong)
END:VEVENT
END:VCALENDAR
