BEGIN:VCALENDAR
VERSION:2.0
PRODID:-//Squarespace Inc/Squarespace 6//v6//EN
BEGIN:VEVENT
UID:5fb4e1558069c10603254a05@squarespace.com
DTSTAMP:20201118T090252Z
DTSTART:20210828T190000Z
DTEND:20210828T200000Z
SUMMARY:Illumine - Australian Chamber Orchestra (Sydney)
END:VEVENT
END:VCALENDAR
