BEGIN:VCALENDAR
VERSION:2.0
PRODID:-//Squarespace Inc/Squarespace 6//v6//EN
BEGIN:VEVENT
UID:5fb4e19250e160304c982227@squarespace.com
DTSTAMP:20201118T090241Z
DTSTART:20210829T190000Z
DTEND:20210829T200000Z
SUMMARY:Illumine - Australian Chamber Orchestra (Sydney)
END:VEVENT
END:VCALENDAR
