BEGIN:VCALENDAR
VERSION:2.0
PRODID:-//Squarespace Inc/Squarespace 6//v6//EN
BEGIN:VEVENT
UID:5fb4e1a9e296d145f4a72a55@squarespace.com
DTSTAMP:20201118T090232Z
DTSTART:20210831T190000Z
DTEND:20210831T200000Z
SUMMARY:Illumine - Australian Chamber Orchestra (Sydney)
END:VEVENT
END:VCALENDAR
