BEGIN:VCALENDAR
VERSION:2.0
PRODID:-//Squarespace Inc/Squarespace 6//v6//EN
BEGIN:VEVENT
UID:5fb4e1bcb9f79d34b0871c7e@squarespace.com
DTSTAMP:20201118T090223Z
DTSTART:20210901T190000Z
DTEND:20210901T200000Z
SUMMARY:Illumine - Australian Chamber Orchestra (Sydney) (Copy)
END:VEVENT
END:VCALENDAR
