BEGIN:VCALENDAR
VERSION:2.0
PRODID:-//Squarespace Inc/Squarespace 6//v6//EN
BEGIN:VEVENT
UID:5fb4e1ce7eda5500cb12776a@squarespace.com
DTSTAMP:20201118T090144Z
DTSTART:20210902T190000Z
DTEND:20210902T200000Z
SUMMARY:Illumine - Australian Chamber Orchestra (Newcastle\, AU)
END:VEVENT
END:VCALENDAR
