BEGIN:VCALENDAR
VERSION:2.0
PRODID:-//Squarespace Inc/Squarespace 6//v6//EN
BEGIN:VEVENT
UID:5fb4e205a1974739ecc927e0@squarespace.com
DTSTAMP:20201118T090153Z
DTSTART:20210904T190000Z
DTEND:20210904T200000Z
SUMMARY:Illumine - Australian Chamber Orchestra (Melbourne)
END:VEVENT
END:VCALENDAR
