BEGIN:VCALENDAR
VERSION:2.0
PRODID:-//Squarespace Inc/Squarespace 6//v6//EN
BEGIN:VEVENT
UID:5fb4e237e296d145f4a73380@squarespace.com
DTSTAMP:20201118T090207Z
DTSTART:20210906T190000Z
DTEND:20210906T200000Z
SUMMARY:Illumine - Australian Chamber Orchestra (Melbourne)
END:VEVENT
END:VCALENDAR
