BEGIN:VCALENDAR
VERSION:2.0
PRODID:-//Squarespace Inc/Squarespace 6//v6//EN
BEGIN:VEVENT
UID:5fb4e2753791651ebb30d993@squarespace.com
DTSTAMP:20201118T090026Z
DTSTART:20210907T190000Z
DTEND:20210907T200000Z
SUMMARY:Illumine - Australian Chamber Orchestra (Adelaide)
END:VEVENT
END:VCALENDAR
