BEGIN:VCALENDAR
VERSION:2.0
PRODID:-//Squarespace Inc/Squarespace 6//v6//EN
BEGIN:VEVENT
UID:5fb4e2af7eda5500cb128768@squarespace.com
DTSTAMP:20201118T090107Z
DTSTART:20210908T190000Z
DTEND:20210908T200000Z
SUMMARY:Illumine - Australian Chamber Orchestra (Perth)
END:VEVENT
END:VCALENDAR
