BEGIN:VCALENDAR
VERSION:2.0
PRODID:-//Squarespace Inc/Squarespace 6//v6//EN
BEGIN:VEVENT
UID:5fb4e255a1974739ecc93013@squarespace.com
DTSTAMP:20201118T085927Z
DTSTART:20210905T190000Z
DTEND:20210905T200000Z
SUMMARY:Illumine - Australian Chamber Orchestra (Melbourne)
END:VEVENT
END:VCALENDAR
