BEGIN:VCALENDAR
VERSION:2.0
PRODID:-//Squarespace Inc/Squarespace 6//v6//EN
BEGIN:VEVENT
UID:5f4a30a4511e4f509f70dbfa@squarespace.com
DTSTAMP:20200829T104218Z
DTSTART:20210507T180000Z
DTEND:20210507T190000Z
SUMMARY:Ró - Iceland Symphony Orchestra
END:VEVENT
END:VCALENDAR
