BEGIN:VCALENDAR
VERSION:2.0
PRODID:-//Squarespace Inc/Squarespace 6//v6//EN
BEGIN:VEVENT
UID:5fb63fa922f47f4248017d51@squarespace.com
DTSTAMP:20201119T095047Z
DTSTART:20210516T170000Z
DTEND:20210516T180000Z
SUMMARY:Spectra - Tampere Philharmonic
END:VEVENT
END:VCALENDAR
