BEGIN:VCALENDAR
VERSION:2.0
PRODID:-//Squarespace Inc/Squarespace 6//v6//EN
BEGIN:VEVENT
UID:5e821717e1a6fc55ddb82eac@squarespace.com
DTSTAMP:20210331T100002Z
DTSTART:20210514T193000Z
DTEND:20210514T203000Z
SUMMARY:*CANCELED* Dreaming - WDR Sinfonieorchester (C. Măcelaru)
END:VEVENT
END:VCALENDAR
