BEGIN:VCALENDAR
VERSION:2.0
PRODID:-//Squarespace Inc/Squarespace 6//v6//EN
BEGIN:VEVENT
UID:607a9960e6dd974e966e72c1@squarespace.com
DTSTAMP:20210417T081819Z
DTSTART:20210603T193000Z
DTEND:20210603T203000Z
SUMMARY:CATAMORPHOSIS - Iceland Symphony Orchestra
END:VEVENT
END:VCALENDAR
