BEGIN:VCALENDAR
VERSION:2.0
PRODID:-//Squarespace Inc/Squarespace 6//v6//EN
BEGIN:VEVENT
UID:5f08aba3042c130500daad59@squarespace.com
DTSTAMP:20201128T135256Z
DTSTART:20210111T190000Z
DTEND:20210111T200000Z
SUMMARY:*CANCELED* Aeriality - Staatsorchester Hannover (Baldur Brönnimann)
END:VEVENT
END:VCALENDAR
