BEGIN:VCALENDAR
VERSION:2.0
PRODID:-//Squarespace Inc/Squarespace 6//v6//EN
BEGIN:VEVENT
UID:5efb1d7684a29a2018685839@squarespace.com
DTSTAMP:20200630T111156Z
DTSTART:20200729T193000Z
DTEND:20200729T203000Z
SUMMARY:Spectra - PODIUM Festival (Norway)
END:VEVENT
END:VCALENDAR
