BEGIN:VCALENDAR
VERSION:2.0
PRODID:-//Squarespace Inc/Squarespace 6//v6//EN
BEGIN:VEVENT
UID:5df4021178db4c252fd78746@squarespace.com
DTSTAMP:20200401T081510Z
DTSTART:20200529T193000Z
DTEND:20200529T203000Z
SUMMARY:*POSTPONED* Reflections - ACME (NYC)
END:VEVENT
END:VCALENDAR
