BEGIN:VCALENDAR
VERSION:2.0
PRODID:-//Squarespace Inc/Squarespace 6//v6//EN
BEGIN:VEVENT
UID:5e565f238ac092631b0a0383@squarespace.com
DTSTAMP:20200324T130154Z
DTSTART:20200426T073000Z
DTEND:20200426T083000Z
SUMMARY:*POSTPONED* Aequilibria - Athelas Sinfonietta (Copenhagen)
END:VEVENT
END:VCALENDAR
