BEGIN:VCALENDAR
VERSION:2.0
PRODID:-//Squarespace Inc/Squarespace 6//v6//EN
BEGIN:VEVENT
UID:5df746291bd90e41f95ef01a@squarespace.com
DTSTAMP:20200113T155154Z
DTSTART:20200308T150000Z
DTEND:20200308T160000Z
SUMMARY:In the Light of Air - New European Ensemble
END:VEVENT
END:VCALENDAR
