BEGIN:VCALENDAR
VERSION:2.0
PRODID:-//Squarespace Inc/Squarespace 6//v6//EN
BEGIN:VEVENT
UID:5de15deef26533387a04fa65@squarespace.com
DTSTAMP:20191129T182344Z
DTSTART:20200304T193000Z
DTEND:20200304T203000Z
SUMMARY:Reminiscence (World Premiere) - Justin Krawitz
END:VEVENT
END:VCALENDAR
