BEGIN:VCALENDAR
VERSION:2.0
PRODID:-//Squarespace Inc/Squarespace 6//v6//EN
BEGIN:VEVENT
UID:5df945ac720d160bfbf682ab@squarespace.com
DTSTAMP:20191217T212117Z
DTSTART:20200201T193000Z
DTEND:20200201T203000Z
SUMMARY:Aequilibria - Palimpsest/Renga (UCSD)
END:VEVENT
END:VCALENDAR
