BEGIN:VCALENDAR
VERSION:2.0
PRODID:-//Squarespace Inc/Squarespace 6//v6//EN
BEGIN:VEVENT
UID:5ef86c82e6aaf04d0e0edc88@squarespace.com
DTSTAMP:20200628T101217Z
DTSTART:20201206T193000Z
DTEND:20201206T203000Z
SUMMARY:Illumine - Australian Chamber Orchestra (Adelaide)
END:VEVENT
END:VCALENDAR
