BEGIN:VCALENDAR
VERSION:2.0
PRODID:-//Squarespace Inc/Squarespace 6//v6//EN
BEGIN:VEVENT
UID:5f15bb5a50df5558e32785ba@squarespace.com
DTSTAMP:20200720T154307Z
DTSTART:20210423T190000Z
DTEND:20210423T200000Z
SUMMARY:Ad Genua - Flemish Radio Choir &amp\; Il Gardellino (Brussels)
END:VEVENT
END:VCALENDAR
