BEGIN:VCALENDAR
VERSION:2.0
PRODID:-//Squarespace Inc/Squarespace 6//v6//EN
BEGIN:VEVENT
UID:5ea55979f222897b8d7f7bd3@squarespace.com
DTSTAMP:20200426T095150Z
DTSTART:20201003T150000Z
DTEND:20201003T160000Z
SUMMARY:METACOSMOS - Royal Stockholm Philharmonic (R. Payare)
END:VEVENT
END:VCALENDAR
