BEGIN:VCALENDAR
VERSION:2.0
PRODID:-//Squarespace Inc/Squarespace 6//v6//EN
BEGIN:VEVENT
UID:5d1a0d0b0d75f60001962699@squarespace.com
DTSTAMP:20190701T134147Z
DTSTART:20190928T190000Z
DTEND:20190928T200000Z
SUMMARY:Heyr þú oss himnum á  - Commotio
END:VEVENT
END:VCALENDAR
