BEGIN:VCALENDAR
VERSION:2.0
PRODID:-//Squarespace Inc/Squarespace 6//v6//EN
BEGIN:VEVENT
UID:5d1a10640d75f60001962cdf@squarespace.com
DTSTAMP:20190701T135832Z
DTSTART:20190812T190000Z
DTEND:20190812T200000Z
SUMMARY:Reflections - Loon Lake\, CA
END:VEVENT
END:VCALENDAR
