BEGIN:VCALENDAR
VERSION:2.0
PRODID:-//Squarespace Inc/Squarespace 6//v6//EN
BEGIN:VEVENT
UID:5d1a0daa0d75f600019627df@squarespace.com
DTSTAMP:20190701T135217Z
DTSTART:20190810T190000Z
DTEND:20190810T200000Z
SUMMARY:Reflections - Loon Lake\, CA
END:VEVENT
END:VCALENDAR
