BEGIN:VCALENDAR
VERSION:2.0
PRODID:-//Squarespace Inc/Squarespace 6//v6//EN
BEGIN:VEVENT
UID:5cb6e6750d92979ac677cf56@squarespace.com
DTSTAMP:20190718T105405Z
DTSTART:20190722T193000Z
DTEND:20190722T203000Z
SUMMARY:METACOSMOS - BBC Proms 2019\, UK premiere
END:VEVENT
END:VCALENDAR
