BEGIN:VCALENDAR
VERSION:2.0
PRODID:-//Squarespace Inc/Squarespace 6//v6//EN
BEGIN:VEVENT
UID:5d1a10190d75f60001962c6e@squarespace.com
DTSTAMP:20190701T135328Z
DTSTART:20190711T190000Z
DTEND:20190711T200000Z
SUMMARY:Reflections - Look Lake\, CA
END:VEVENT
END:VCALENDAR
