BEGIN:VCALENDAR
VERSION:2.0
PRODID:-//Squarespace Inc/Squarespace 6//v6//EN
BEGIN:VEVENT
UID:5c2b68d50e2e72e38d908401@squarespace.com
DTSTAMP:20190101T132325Z
DTSTART:20190208T190000Z
DTEND:20190208T200000Z
SUMMARY:Composer-in-Residence Concert - Royal Academy of Music\, London
END:VEVENT
END:VCALENDAR
