BEGIN:VCALENDAR
VERSION:2.0
PRODID:-//Squarespace Inc/Squarespace 6//v6//EN
BEGIN:VEVENT
UID:5c152d21032be42f6121f8d9@squarespace.com
DTSTAMP:20181215T163624Z
DTSTART:20190111T190000Z
DTEND:20190111T200000Z
SUMMARY:Dreaming - BBC Symphony Orchestra
END:VEVENT
END:VCALENDAR
