BEGIN:VCALENDAR
VERSION:2.0
PRODID:-//Squarespace Inc/Squarespace 6//v6//EN
BEGIN:VEVENT
UID:5b155a8d758d46e6e644692c@squarespace.com
DTSTAMP:20180604T153020Z
DTSTART:20180708T153000Z
DTEND:20180708T163000Z
SUMMARY:Shades of Silence - Viitasaari\, Finland
END:VEVENT
END:VCALENDAR
