BEGIN:VCALENDAR
VERSION:2.0
PRODID:-//Squarespace Inc/Squarespace 6//v6//EN
BEGIN:VEVENT
UID:5b0c26bc88251baf566d2acc@squarespace.com
DTSTAMP:20180528T155712Z
DTSTART:20181207T190000Z
DTEND:20181207T200000Z
SUMMARY:Dreaming - Swedish Radio Symphony Orchestra
END:VEVENT
END:VCALENDAR
