BEGIN:VCALENDAR
VERSION:2.0
PRODID:-//Squarespace Inc/Squarespace 6//v6//EN
BEGIN:VEVENT
UID:5b0c262788251baf566d10d6@squarespace.com
DTSTAMP:20180528T155633Z
DTSTART:20181206T190000Z
DTEND:20181206T200000Z
SUMMARY:Dreaming - Swedish Radio Symphony Orchestra
END:VEVENT
END:VCALENDAR
