BEGIN:VCALENDAR
VERSION:2.0
PRODID:-//Squarespace Inc/Squarespace 6//v6//EN
BEGIN:VEVENT
UID:5b155a1888251bd13008613f@squarespace.com
DTSTAMP:20180604T152801Z
DTSTART:20181205T193000Z
DTEND:20181205T203000Z
SUMMARY:Hrím - Carnegie Hall
END:VEVENT
END:VCALENDAR
