BEGIN:VCALENDAR
VERSION:2.0
PRODID:-//Squarespace Inc/Squarespace 6//v6//EN
BEGIN:VEVENT
UID:590af20e3a0411242603cf81@squarespace.com
DTSTAMP:20170504T092234Z
DTSTART:20170928T193000Z
DTEND:20170928T210000Z
SUMMARY:Aeriality - Philharmonia Orchestra
END:VEVENT
END:VCALENDAR
