BEGIN:VCALENDAR
VERSION:2.0
PRODID:-//Squarespace Inc/Squarespace 6//v6//EN
BEGIN:VEVENT
UID:590a3d7b3e00bea9500c8e77@squarespace.com
DTSTAMP:20170504T092212Z
DTSTART:20170817T193000Z
DTEND:20170817T203000Z
SUMMARY:Aequilibria - International Contemporary Ensemble (ICE)
END:VEVENT
END:VCALENDAR
