BEGIN:VCALENDAR
VERSION:2.0
PRODID:-//Squarespace Inc/Squarespace 6//v6//EN
BEGIN:VEVENT
UID:590a40d4c534a54d646645d8@squarespace.com
DTSTAMP:20170503T204322Z
DTSTART:20170207T210000Z
DTEND:20170207T220000Z
SUMMARY:Trajectories
END:VEVENT
END:VCALENDAR
